BEGIN:VCALENDAR
VERSION:2.0
PRODID:-//Bündnis 90/DIE GRÜNEN Steglitz-Zehlendorf - ECPv6.15.20//NONSGML v1.0//EN
CALSCALE:GREGORIAN
METHOD:PUBLISH
X-WR-CALNAME:Bündnis 90/DIE GRÜNEN Steglitz-Zehlendorf
X-ORIGINAL-URL:https://gruene-suedwest.de
X-WR-CALDESC:Veranstaltungen für Bündnis 90/DIE GRÜNEN Steglitz-Zehlendorf
REFRESH-INTERVAL;VALUE=DURATION:PT1H
X-Robots-Tag:noindex
X-PUBLISHED-TTL:PT1H
BEGIN:VTIMEZONE
TZID:Europe/Berlin
BEGIN:DAYLIGHT
TZOFFSETFROM:+0100
TZOFFSETTO:+0200
TZNAME:CEST
DTSTART:20250330T010000
END:DAYLIGHT
BEGIN:STANDARD
TZOFFSETFROM:+0200
TZOFFSETTO:+0100
TZNAME:CET
DTSTART:20251026T010000
END:STANDARD
BEGIN:DAYLIGHT
TZOFFSETFROM:+0100
TZOFFSETTO:+0200
TZNAME:CEST
DTSTART:20260329T010000
END:DAYLIGHT
BEGIN:STANDARD
TZOFFSETFROM:+0200
TZOFFSETTO:+0100
TZNAME:CET
DTSTART:20261025T010000
END:STANDARD
BEGIN:DAYLIGHT
TZOFFSETFROM:+0100
TZOFFSETTO:+0200
TZNAME:CEST
DTSTART:20270328T010000
END:DAYLIGHT
BEGIN:STANDARD
TZOFFSETFROM:+0200
TZOFFSETTO:+0100
TZNAME:CET
DTSTART:20271031T010000
END:STANDARD
END:VTIMEZONE
BEGIN:VEVENT
DTSTART;TZID=Europe/Berlin:20260424T170000
DTEND;TZID=Europe/Berlin:20260424T190000
DTSTAMP:20260424T030109
CREATED:20260413T092544Z
LAST-MODIFIED:20260424T001012Z
UID:555180-1777050000-1777057200@gruene-suedwest.de
SUMMARY:Walk & Talk: Feierabend-Spaziergänge durch die Stadtnatur
DESCRIPTION:Wenn der Arbeitstag endet\, können Sie an einer ganz eigenen Welt teilhaben\, die sich draußen in Steglitz-Zehlendorf eröffnet: Vögel singen zwischen den Häusern\, Biber arbeiten im Verborgenen am Teltow-Kanal\, Wildwiesen erobern kleine grüne Nischen und Stadtbäume erzählen ihre Geschichten.    \nWir laden Sie herzlich zu vier entspannten Feierabendspaziergängen ein\, bei denen wir gemeinsam die überraschende Vielfalt der Stadtnatur mitten in Steglitz-Zehlendorf entdecken. In lockerer Atmosphäre erfahren Sie Spannendes über Tiere und Pflanzen\, die direkt vor unserer Haustür leben sowie unsere Beziehung zu ihnen.    \nDie Themen der Spaziergänge:   – Fliegende Gärtner – den Superkräften der Vögel auf der Spur   – Biber & Menschen – zwei Schlüsselarten für lebendige Landschaften?   – Wiesen als Horte der Lebendigkeit – der Mensch als Landschaftsgärtner & Hüter biologischer Vielfalt   – Mensch-Baum-Beziehungen – auf der Suche nach einem fruchtbaren Miteinander    \nFür wen: Für alle Naturinteressierten\, Vorkenntnisse sind nicht erforderlich    \nWann: Jeweils am frühen Abend von 17-19 Uhr und damit ideal zum Abschalten nach der Arbeit    \nKommen Sie mit auf eine kurze Auszeit im  Grünen\, lernen Sie Ihre Stadt aus einer neuen Perspektive kennen und entdecken Sie\, wie viel Natur direkt vor unserer Haustür steckt. Die Spaziergänge bauen nicht aufeinander auf und können auch einzeln besucht werden.  \nWir freuen uns auf Sie!    \nIhre Volkshochschule Steglitz-Zehlendorf und Koordinierungsstelle Natur-\, Umwelt- und Nachhaltigkeitsbildung (NUN)    \n……………………………………………………………………………………………..   Freitag\, 24. April:   Fliegende Gärtner – den Superkräften der Vögel auf der Spur    \nSeit der Steinzeit begleitet uns eine besondere Beziehung: die zwischen Menschen und Vögeln. Unsere gefiederten Nachbarn waren nicht nur Nahrung oder Inspiration für den Traum vom Fliegen – sie besitzen erstaunliche Fähigkeiten\, von denen wir bis heute profitieren.    \nViele Vogelarten sind wahre Superhelden der Natur: Sie warnen andere Tiere vor Gefahren\, helfen dabei\, Parasiten zu entfernen\, bauen beeindruckende Nester und wirken als fliegende Gärtner\, indem sie Samen verbreiten und so neue Bäume und Sträucher wachsen lassen. Schon seit Jahrhunderten beobachten Menschen diese Fähigkeiten und nutzen ihr Wissen über Vögel sogar\, um Nahrung in der Landschaft zu finden.    \nAuf diesem interaktiven Frühlingsspaziergang begeben wir uns auf Spurensuche: Wer singt gerade über unseren Köpfen? Welche Rolle spielen Vögel für andere Tiere – und auch für uns Menschen? Und wie helfen sie dabei\, unsere Landschaft lebendig und vielfältig zu halten?    \nGemeinsam lauschen wir ihren Geschichten und entdecken\, welche Bedeutung das Band zwischen Menschen und Vögeln auch heute für uns haben kann.     \nDas Angebot ist kostenfrei und wird von dem erfahrenen Wildnispädagogen Lennart Höffgen umgesetzt.    \nDatum: Freitag 24. April\, 17 – 19 Uhr   max. Anzahl an Teilnehmenden: 15 Teilnehmende   Ort: Vor Fahrradladen Kuczka\, Teltower Damm 76\, 14167 Berlin/Nähe Schweizerhofpark   Anmeldung über die Koordinierungsstelle NUN per E-Mail an juhuebner@zedat.fu-berlin.de
URL:https://gruene-suedwest.de/termin/walk-talk-feierabend-spaziergaenge-durch-die-stadtnatur/
LOCATION:Vor Fahrradladen Kuczka\, Teltower Damm 76\, 14167 Berlin
CATEGORIES:Termine SteZe🛜
END:VEVENT
END:VCALENDAR