BEGIN:VCALENDAR
VERSION:2.0
PRODID:-//Bündnis 90/DIE GRÜNEN Steglitz-Zehlendorf - ECPv6.15.20//NONSGML v1.0//EN
CALSCALE:GREGORIAN
METHOD:PUBLISH
X-WR-CALNAME:Bündnis 90/DIE GRÜNEN Steglitz-Zehlendorf
X-ORIGINAL-URL:https://gruene-suedwest.de
X-WR-CALDESC:Veranstaltungen für Bündnis 90/DIE GRÜNEN Steglitz-Zehlendorf
REFRESH-INTERVAL;VALUE=DURATION:PT1H
X-Robots-Tag:noindex
X-PUBLISHED-TTL:PT1H
BEGIN:VTIMEZONE
TZID:Europe/Berlin
BEGIN:DAYLIGHT
TZOFFSETFROM:+0100
TZOFFSETTO:+0200
TZNAME:CEST
DTSTART:20250330T010000
END:DAYLIGHT
BEGIN:STANDARD
TZOFFSETFROM:+0200
TZOFFSETTO:+0100
TZNAME:CET
DTSTART:20251026T010000
END:STANDARD
BEGIN:DAYLIGHT
TZOFFSETFROM:+0100
TZOFFSETTO:+0200
TZNAME:CEST
DTSTART:20260329T010000
END:DAYLIGHT
BEGIN:STANDARD
TZOFFSETFROM:+0200
TZOFFSETTO:+0100
TZNAME:CET
DTSTART:20261025T010000
END:STANDARD
BEGIN:DAYLIGHT
TZOFFSETFROM:+0100
TZOFFSETTO:+0200
TZNAME:CEST
DTSTART:20270328T010000
END:DAYLIGHT
BEGIN:STANDARD
TZOFFSETFROM:+0200
TZOFFSETTO:+0100
TZNAME:CET
DTSTART:20271031T010000
END:STANDARD
END:VTIMEZONE
BEGIN:VEVENT
DTSTART;TZID=Europe/Berlin:20260425T103000
DTEND;TZID=Europe/Berlin:20260425T123000
DTSTAMP:20260425T014130
CREATED:20260424T094017Z
LAST-MODIFIED:20260424T234013Z
UID:558252-1777113000-1777120200@gruene-suedwest.de
SUMMARY:CleanUp-Aktion
DESCRIPTION:Gemeinsam unsere Stadt sauber machen! \nBÜNDNIS 90/DIE GRÜNEN Südwest und Silke Lambeck\, Direktkandidatin Wahlkreis 7\, laden zu einer gemeinsamen CleanUp-Aktion ein.    \n📆 Wann? Samstag\, 25. April\, 10:30 – 12:30 Uhr   📍 Treffpunkt: Vorplatz S-Bahnhof Wannsee   🧭 Route: Säuberung des Vorplatzes und der umgebenden Straßen und Wannseebrücken    \nGemeinsam sammeln wir Müll\, sorgen für saubere Straßen und machen unsere Nachbarschaft schöner.   Greifzangen\, Handschuhe und Mülltüten gibt’s von uns – kommt vorbei und helft mit\, unsere Kieze sauber und lebenswert zu halten!
URL:https://gruene-suedwest.de/termin/cleanup-aktion/
LOCATION:Treffpunkt: Vorplatz S-Bahnhof Wannsee
CATEGORIES:Kreisverband 🛜
END:VEVENT
BEGIN:VEVENT
DTSTART;TZID=Europe/Berlin:20260425T120000
DTEND;TZID=Europe/Berlin:20260425T140000
DTSTAMP:20260425T014130
CREATED:20260408T125541Z
LAST-MODIFIED:20260424T234013Z
UID:554426-1777118400-1777125600@gruene-suedwest.de
SUMMARY:Demo: Was zehlt?
DESCRIPTION:Nach unserer Demo für Verkehrsberuhigung und Tempo 30 in Sundgauer und Seehofstraße wollen wir unseren Forderungen Nachdruck verleihen.\nFür sichere Wege rund um Kitas\, Schulen und Einrichtungen für Senior:innen\, für Zebrastreifen und Radwege – und mehr statt weniger Tempo 30!\nFür die Sicherheit aller Verkehrsteilnehmenden!
URL:https://gruene-suedwest.de/termin/demo-was-zehlt/
LOCATION:S-Bahnhof Sundgauer Straße
CATEGORIES:BVV🛜,Termine SteZe🛜
ATTACH;FMTTYPE=image/png:https://gruene-suedwest.de/wp-content/uploads/sites/3/Demo-Was-zehlt.png
END:VEVENT
END:VCALENDAR