BEGIN:VCALENDAR
VERSION:2.0
PRODID:-//Bündnis 90/DIE GRÜNEN Steglitz-Zehlendorf - ECPv6.15.20//NONSGML v1.0//EN
CALSCALE:GREGORIAN
METHOD:PUBLISH
X-WR-CALNAME:Bündnis 90/DIE GRÜNEN Steglitz-Zehlendorf
X-ORIGINAL-URL:https://gruene-suedwest.de
X-WR-CALDESC:Veranstaltungen für Bündnis 90/DIE GRÜNEN Steglitz-Zehlendorf
REFRESH-INTERVAL;VALUE=DURATION:PT1H
X-Robots-Tag:noindex
X-PUBLISHED-TTL:PT1H
BEGIN:VTIMEZONE
TZID:Europe/Berlin
BEGIN:DAYLIGHT
TZOFFSETFROM:+0100
TZOFFSETTO:+0200
TZNAME:CEST
DTSTART:20230326T010000
END:DAYLIGHT
BEGIN:STANDARD
TZOFFSETFROM:+0200
TZOFFSETTO:+0100
TZNAME:CET
DTSTART:20231029T010000
END:STANDARD
BEGIN:DAYLIGHT
TZOFFSETFROM:+0100
TZOFFSETTO:+0200
TZNAME:CEST
DTSTART:20240331T010000
END:DAYLIGHT
BEGIN:STANDARD
TZOFFSETFROM:+0200
TZOFFSETTO:+0100
TZNAME:CET
DTSTART:20241027T010000
END:STANDARD
BEGIN:DAYLIGHT
TZOFFSETFROM:+0100
TZOFFSETTO:+0200
TZNAME:CEST
DTSTART:20250330T010000
END:DAYLIGHT
BEGIN:STANDARD
TZOFFSETFROM:+0200
TZOFFSETTO:+0100
TZNAME:CET
DTSTART:20251026T010000
END:STANDARD
END:VTIMEZONE
BEGIN:VEVENT
DTSTART;TZID=Europe/Berlin:20240704T190000
DTEND;TZID=Europe/Berlin:20240704T210000
DTSTAMP:20260420T080730
CREATED:20240412T083250Z
LAST-MODIFIED:20240704T180007Z
UID:469795-1720119600-1720126800@gruene-suedwest.de
SUMMARY:AG offene Gesellschaft
DESCRIPTION:Wir treffen uns am 04.07 das nächste Mal um 19:00 Uhr im hybriden Format\, ihr könnt also in der KGS (Schildhornstraße 91\, 12163 Berlin) oder online teilnehmen. Wir schlagen folgende TOPs vor:\nTOP 1: Begrüßung und kurzer Austausch\nTOP 2: Organisation Workshop „Was ist Vielfalt“ oder „QueerBeer“ o.ä.\nTOP 3: Diskussion der Europawahl\nTOP 4: Sonstiges\nWir freuen uns\, wenn ihr zahlreich erscheint. Je mehr da sind\, umso mehr können wir gemeinsam umsetzen!
URL:https://gruene-suedwest.de/termin/ag-offene-gesellschaft-4/
LOCATION:KGS Schildhornstraße 91\, 12163 Berlin.
CATEGORIES:AG/NBT
END:VEVENT
BEGIN:VEVENT
DTSTART;TZID=Europe/Berlin:20240714T140000
DTEND;TZID=Europe/Berlin:20240714T160000
DTSTAMP:20260420T080730
CREATED:20240702T065627Z
LAST-MODIFIED:20240714T130007Z
UID:472276-1720965600-1720972800@gruene-suedwest.de
SUMMARY:Lichterfelde ist bunt - Familiendemo
DESCRIPTION:📢 Aufruf zur Familiendemo für Vielfalt und Demokratie: \nZum zweiten Mal kommen wir in Lichterfelde West zur Familiendemo zusammen und setzen ein Zeichen für gelebte Demokratie und Vielfalt. Wir wollen eine offene\, bunte Gesellschaft bleiben. Kommt dazu\, mit Groß und Klein! Es wird wieder ein buntes Programm für die ganze Familie geben\, gestaltet von Schülerinnen und Schülern. \n⏰ Sonntag\, 14. Juli 2024 um 14 Uhr\n📍 S Lichterfelde-West
URL:https://gruene-suedwest.de/termin/lichterfelde-ist-bunt-familiendemo/
LOCATION:Bahnhof Lichterfelde West
CATEGORIES:Termine Steglitz-Zehlendorf
ATTACH;FMTTYPE=image/jpeg:https://gruene-suedwest.de/wp-content/uploads/sites/3/signal-2024-06-30-183411_002.jpeg
END:VEVENT
END:VCALENDAR