BEGIN:VCALENDAR
VERSION:2.0
PRODID:-//Bündnis 90/DIE GRÜNEN Steglitz-Zehlendorf - ECPv6.15.20//NONSGML v1.0//EN
CALSCALE:GREGORIAN
METHOD:PUBLISH
X-WR-CALNAME:Bündnis 90/DIE GRÜNEN Steglitz-Zehlendorf
X-ORIGINAL-URL:https://gruene-suedwest.de
X-WR-CALDESC:Veranstaltungen für Bündnis 90/DIE GRÜNEN Steglitz-Zehlendorf
REFRESH-INTERVAL;VALUE=DURATION:PT1H
X-Robots-Tag:noindex
X-PUBLISHED-TTL:PT1H
BEGIN:VTIMEZONE
TZID:Europe/Berlin
BEGIN:DAYLIGHT
TZOFFSETFROM:+0100
TZOFFSETTO:+0200
TZNAME:CEST
DTSTART:20230326T010000
END:DAYLIGHT
BEGIN:STANDARD
TZOFFSETFROM:+0200
TZOFFSETTO:+0100
TZNAME:CET
DTSTART:20231029T010000
END:STANDARD
BEGIN:DAYLIGHT
TZOFFSETFROM:+0100
TZOFFSETTO:+0200
TZNAME:CEST
DTSTART:20240331T010000
END:DAYLIGHT
BEGIN:STANDARD
TZOFFSETFROM:+0200
TZOFFSETTO:+0100
TZNAME:CET
DTSTART:20241027T010000
END:STANDARD
BEGIN:DAYLIGHT
TZOFFSETFROM:+0100
TZOFFSETTO:+0200
TZNAME:CEST
DTSTART:20250330T010000
END:DAYLIGHT
BEGIN:STANDARD
TZOFFSETFROM:+0200
TZOFFSETTO:+0100
TZNAME:CET
DTSTART:20251026T010000
END:STANDARD
END:VTIMEZONE
BEGIN:VEVENT
DTSTART;TZID=Europe/Berlin:20241024T190000
DTEND;TZID=Europe/Berlin:20241024T210000
DTSTAMP:20260419T213443
CREATED:20240412T083250Z
LAST-MODIFIED:20241024T185006Z
UID:469769-1729796400-1729803600@gruene-suedwest.de
SUMMARY:AG offene Gesellschaft & AG Kultur
DESCRIPTION:Liebe Mitglieder der AGs OG und Kultur\,wir haben uns dazu entschlossen\, die nächsten Veranstaltungen gemeinsam auszurichten. Unser nächstes Treffen findet am 24. Oktober in der KGS und online statt.Wir schlagen folgende TOPs vor:TOP 1: BegrüßungTOP 2: Auswertung der DiversitätsumfrageTOP 3: Bericht aus dem Kulturausschuss TOP 4: Wie geht es weiter mit der Trostfrauenstatue?TOP 5: LDK-VorbereitungTOP 6: gemeinsames Treffen mit den Omas gegen Rechts TOP 7: SonstigesWir freuen uns auf zahlreiches Erscheinen!Annette\, Christoph und Teresa
URL:https://gruene-suedwest.de/termin/ag-offene-gesellschaft-2/
LOCATION:KGS Schildhornstraße 91\, 12163 Berlin.
CATEGORIES:AG/NBT
END:VEVENT
END:VCALENDAR