BEGIN:VCALENDAR
VERSION:2.0
PRODID:-//Bündnis 90/DIE GRÜNEN Steglitz-Zehlendorf - ECPv6.15.20//NONSGML v1.0//EN
CALSCALE:GREGORIAN
METHOD:PUBLISH
X-ORIGINAL-URL:https://gruene-suedwest.de
X-WR-CALDESC:Veranstaltungen für Bündnis 90/DIE GRÜNEN Steglitz-Zehlendorf
REFRESH-INTERVAL;VALUE=DURATION:PT1H
X-Robots-Tag:noindex
X-PUBLISHED-TTL:PT1H
BEGIN:VTIMEZONE
TZID:Europe/Berlin
BEGIN:DAYLIGHT
TZOFFSETFROM:+0100
TZOFFSETTO:+0200
TZNAME:CEST
DTSTART:20230326T010000
END:DAYLIGHT
BEGIN:STANDARD
TZOFFSETFROM:+0200
TZOFFSETTO:+0100
TZNAME:CET
DTSTART:20231029T010000
END:STANDARD
BEGIN:DAYLIGHT
TZOFFSETFROM:+0100
TZOFFSETTO:+0200
TZNAME:CEST
DTSTART:20240331T010000
END:DAYLIGHT
BEGIN:STANDARD
TZOFFSETFROM:+0200
TZOFFSETTO:+0100
TZNAME:CET
DTSTART:20241027T010000
END:STANDARD
BEGIN:DAYLIGHT
TZOFFSETFROM:+0100
TZOFFSETTO:+0200
TZNAME:CEST
DTSTART:20250330T010000
END:DAYLIGHT
BEGIN:STANDARD
TZOFFSETFROM:+0200
TZOFFSETTO:+0100
TZNAME:CET
DTSTART:20251026T010000
END:STANDARD
END:VTIMEZONE
BEGIN:VEVENT
DTSTART;TZID=Europe/Berlin:20241212T190000
DTEND;TZID=Europe/Berlin:20241212T210000
DTSTAMP:20260419T151012
CREATED:20240828T184105Z
LAST-MODIFIED:20241212T193507Z
UID:473667-1734030000-1734037200@gruene-suedwest.de
SUMMARY:AG offene Gesellschaft & AG Kultur
DESCRIPTION:Arbeitsgemeinschaft für eine offene Gesellschaft & Arbeitsgemeinschaft für Kultur
URL:https://gruene-suedwest.de/termin/ag-offene-gesellschaft-5/
LOCATION:KGS Schildhornstraße 91\, 12163 Berlin.
CATEGORIES:AG/NBT
END:VEVENT
BEGIN:VEVENT
DTSTART;TZID=Europe/Berlin:20241221T130000
DTEND;TZID=Europe/Berlin:20241221T150000
DTSTAMP:20260419T151012
CREATED:20241218T210623Z
LAST-MODIFIED:20241221T135006Z
UID:477873-1734786000-1734793200@gruene-suedwest.de
SUMMARY:✊ Demonstration für Demokratie und Vielfalt 🌈
DESCRIPTION:Nach dem feigen Angriff auf Wahlkämpfer*innen der SPD in der letzten Woche setzen wir gemeinsam ein starkes Zeichen gegen Neonazismus! \n🔥 Unsere Direktkandidatin Nina Stahr wird vor Ort eine Rede halten und klare Worte für Demokratie und Vielfalt finden. \nLasst uns zusammenstehen – für ein offenes\, buntes und friedliches Steglitz-Zehlendorf! Egal\, ob Jung oder Alt: Kommt zahlreich und zeigt\, dass Hass und Gewalt keinen Platz in unserer Gesellschaft haben.
URL:https://gruene-suedwest.de/termin/%e2%9c%8a-demonstration-fuer-demokratie-und-vielfalt-%f0%9f%8c%88/
LOCATION:Bahnhof Lichterfelde Ost
CATEGORIES:Kreisverband,Termine Steglitz-Zehlendorf
ATTACH;FMTTYPE=image/jpeg:https://gruene-suedwest.de/wp-content/uploads/sites/3/Image-2.jpeg
END:VEVENT
END:VCALENDAR